BEGIN:VCALENDAR
VERSION:2.0
PRODID:-//Magic Millions - ECPv6.7.1//NONSGML v1.0//EN
CALSCALE:GREGORIAN
METHOD:PUBLISH
X-WR-CALNAME:Magic Millions
X-ORIGINAL-URL:https://devls.magicmillions.com.au
X-WR-CALDESC:Events for Magic Millions
REFRESH-INTERVAL;VALUE=DURATION:PT1H
X-Robots-Tag:noindex
X-PUBLISHED-TTL:PT1H
BEGIN:VTIMEZONE
TZID:Australia/Melbourne
BEGIN:STANDARD
TZOFFSETFROM:+1100
TZOFFSETTO:+1000
TZNAME:AEST
DTSTART:20250405T160000
END:STANDARD
BEGIN:DAYLIGHT
TZOFFSETFROM:+1000
TZOFFSETTO:+1100
TZNAME:AEDT
DTSTART:20251004T160000
END:DAYLIGHT
END:VTIMEZONE
BEGIN:VEVENT
DTSTART;TZID=Australia/Melbourne:20250106T090000
DTEND;TZID=Australia/Melbourne:20250106T100000
DTSTAMP:20260421T202451
CREATED:20230308T052309Z
LAST-MODIFIED:20241015T065037Z
UID:42154-1736154000-1736157600@devls.magicmillions.com.au
SUMMARY:Own the Morning - Racing Queensland
DESCRIPTION:Racing Queensland’s Own The Morning \nAbout: Grab a coffee and meet leading trainers\, breeders and industry leaders for a relaxed walk and talk. \nCovering a range of topics\, this ½ hour information session is an opportunity for prospective\, current and returning owners to engage with the legends of racing. \nWhere: Racing Queensland Marquee (Near A Barn)\, Magic Millions Sales Complex \nTime: 9.00am \nTickets: Free event \nRegister your interest to attend: https://www.racingqueensland.com.au/ownership/own-the-morning-series \n  \nDate: \nMonday\, January 6 \nWednesday\, January 8 \nFriday\, January 10 \n  \nWatch: Magic Millions 2024 Own the Morning
URL:https://devls.magicmillions.com.au/calendar/own-the-morning-racing-queensland/
LOCATION:Magic Millions Sales Complex Bundall\, 28 Ascot Court\, Bundall\, Gold Coast\, Queensland\, 4217\, Australia
CATEGORIES:Carnivals,Events,The Star Gold Coast Magic Millions Carnival
END:VEVENT
END:VCALENDAR