BEGIN:VCALENDAR
VERSION:2.0
PRODID:-//Magic Millions - ECPv6.7.1//NONSGML v1.0//EN
CALSCALE:GREGORIAN
METHOD:PUBLISH
X-WR-CALNAME:Magic Millions
X-ORIGINAL-URL:https://devls.magicmillions.com.au
X-WR-CALDESC:Events for Magic Millions
REFRESH-INTERVAL;VALUE=DURATION:PT1H
X-Robots-Tag:noindex
X-PUBLISHED-TTL:PT1H
BEGIN:VTIMEZONE
TZID:Australia/Melbourne
BEGIN:STANDARD
TZOFFSETFROM:+1100
TZOFFSETTO:+1000
TZNAME:AEST
DTSTART:20250405T160000
END:STANDARD
BEGIN:DAYLIGHT
TZOFFSETFROM:+1000
TZOFFSETTO:+1100
TZNAME:AEDT
DTSTART:20251004T160000
END:DAYLIGHT
END:VTIMEZONE
BEGIN:VEVENT
DTSTART;TZID=Australia/Melbourne:20250109T180000
DTEND;TZID=Australia/Melbourne:20250109T220000
DTSTAMP:20260421T184630
CREATED:20161206T041131Z
LAST-MODIFIED:20241029T034439Z
UID:22646-1736445600-1736460000@devls.magicmillions.com.au
SUMMARY:2025 TAB 2YO Calcutta Dinner
DESCRIPTION:About\nJoin the racing enthusiasts for a fun and relaxed night with dinner and drinks. TAB representatives will provide insight into the prestigious The Star Gold Coast Magic Millions 2YO Classic\, then the Calcutta action begins conducted by Magic Millions auctioneers. A sell-out event each year not to be missed! \nTicket includes: Reserved seating on tables of ten\, 3-course plated set menu\, 4-hour beverage package including Chandon Brut\, beer\, wine & soft drink. \nWhere\nGold Coast Event Centre\, Gold Coast Turf Club\, Bundall \nTime\nStart: 6pm\nEnd: 10pm \nDress Code\nSmart Casual \nTickets\nTickets available HERE.\nTables of 10: Members $2\,100\, Non-Members $2\,300 | Individual Tickets Members $210\, Non-Members $230
URL:https://devls.magicmillions.com.au/calendar/2025-tab-2yo-calcutta-dinner/
LOCATION:Gold Coast Turf Club\, Racecourse Dr\, Bundall QLD\, Gold Coast\, Queensland\, 4217\, Australia
CATEGORIES:Carnivals,The Star Gold Coast Magic Millions Carnival
END:VEVENT
END:VCALENDAR