BEGIN:VCALENDAR
VERSION:2.0
PRODID:-//Magic Millions - ECPv6.7.1//NONSGML v1.0//EN
CALSCALE:GREGORIAN
METHOD:PUBLISH
X-WR-CALNAME:Magic Millions
X-ORIGINAL-URL:https://devls.magicmillions.com.au
X-WR-CALDESC:Events for Magic Millions
REFRESH-INTERVAL;VALUE=DURATION:PT1H
X-Robots-Tag:noindex
X-PUBLISHED-TTL:PT1H
BEGIN:VTIMEZONE
TZID:Australia/Melbourne
BEGIN:STANDARD
TZOFFSETFROM:+1100
TZOFFSETTO:+1000
TZNAME:AEST
DTSTART:20250405T160000
END:STANDARD
BEGIN:DAYLIGHT
TZOFFSETFROM:+1000
TZOFFSETTO:+1100
TZNAME:AEDT
DTSTART:20251004T160000
END:DAYLIGHT
END:VTIMEZONE
BEGIN:VEVENT
DTSTART;TZID=Australia/Melbourne:20250106T120000
DTEND;TZID=Australia/Melbourne:20250106T120000
DTSTAMP:20260421T185835
CREATED:20141024T030822Z
LAST-MODIFIED:20241022T233255Z
UID:7579-1736164800-1736164800@devls.magicmillions.com.au
SUMMARY:2025 Women In Racing Inc Australia Luncheon
DESCRIPTION:About\nWomen In Racing Inc Australia’s annual event is being held once again at the Sheraton Grand Mirage Resort. \nThe “Make 2025 Magic” luncheon includes a three-course luncheon and 2 ½ hour beverage package\, VIP guest speaker\, Entertainment\, raffles and milliners and accessory displays. \nWhen\nMonday\, 6th January\, 2025 \nWhere\nHorizons Room\, Sheraton Grand Mirage\, Main Beach \nTime\nFrom 12 noon \nTickets\nMembers $180\, Non-Members $210 \nFor enquiries and bookings: Baslyn Beel +614 11 698 484 or Jennifer Bartels +614 38 741 242
URL:https://devls.magicmillions.com.au/calendar/2025-magic-millions-women-in-racing-inc-luncheon/
LOCATION:Horizons Restaurant\, Sheraton Mirage Resort & Spa\, Main Beach\, Queensland\, 4217\, Australia
CATEGORIES:Affiliate Events,Carnivals,The Star Gold Coast Magic Millions Carnival
END:VEVENT
END:VCALENDAR