BEGIN:VCALENDAR
VERSION:2.0
PRODID:-//Magic Millions - ECPv6.7.1//NONSGML v1.0//EN
CALSCALE:GREGORIAN
METHOD:PUBLISH
X-WR-CALNAME:Magic Millions
X-ORIGINAL-URL:https://devls.magicmillions.com.au
X-WR-CALDESC:Events for Magic Millions
REFRESH-INTERVAL;VALUE=DURATION:PT1H
X-Robots-Tag:noindex
X-PUBLISHED-TTL:PT1H
BEGIN:VTIMEZONE
TZID:Australia/Melbourne
BEGIN:STANDARD
TZOFFSETFROM:+1100
TZOFFSETTO:+1000
TZNAME:AEST
DTSTART:20230401T160000
END:STANDARD
BEGIN:DAYLIGHT
TZOFFSETFROM:+1000
TZOFFSETTO:+1100
TZNAME:AEDT
DTSTART:20230930T160000
END:DAYLIGHT
END:VTIMEZONE
BEGIN:VEVENT
DTSTART;VALUE=DATE:20230107
DTEND;VALUE=DATE:20230108
DTSTAMP:20260421T185905
CREATED:20210818T050835Z
LAST-MODIFIED:20221013T232720Z
UID:38047-1673049600-1673135999@devls.magicmillions.com.au
SUMMARY:2023 GCTC The Wave Raceday
DESCRIPTION:About\nAquis Raceday showcasing the $250\,000 feature race for 3YO & 4YO The Wave\, $150\,000 Aquis Gold Nugget and $150\,000 Aquis Gold Pearl plus three exclusive Magic Millions Races worth $750\,000 in prizemoney. \nFeature races included on the day include: \n$105\,000 Open | Quality 900m\n$250\,000 Magic Millions Maiden | 3YO & Up SW 1200m\n$250\,000 Magic Millions Rising Stars | Colts\, Geldings & Entires 3YO & 4YO C4 Plate 1300m\n$250\,000 Magic Millions Rising Stars | Fillies & Mares 3YO & 4YO C4 Plate 1300m\n$250\,000 The Wave | 3YO & 4YO WFA 1800m + $200\,000 Bonus to the winner if nominated to MM Race Series.  (Wildcard for the Magic Millions Subzero)\n$150\,000 Gold Nugget | 2YO SW+P Colts & Geldings 1100m\n$150\,000 Gold Pearl | 2YO SW+P Fillies 1100m \nWhere\nGold Coast Turf Club\nGates Open – 10am – Booking online recommended. \nTickets\nPlease visit Gold Coast Turf Club for tickets and packages. \n 
URL:https://devls.magicmillions.com.au/calendar/2023-gctc-the-wave-raceday/
LOCATION:Gold Coast Turf Club\, Racecourse Dr\, Bundall QLD\, Gold Coast\, Queensland\, 4217\, Australia
CATEGORIES:Affiliate Events,Carnivals,Gold Coast,The Star Gold Coast Magic Millions Carnival
END:VEVENT
END:VCALENDAR