BEGIN:VCALENDAR
VERSION:2.0
PRODID:-//Magic Millions - ECPv6.7.1//NONSGML v1.0//EN
CALSCALE:GREGORIAN
METHOD:PUBLISH
X-WR-CALNAME:Magic Millions
X-ORIGINAL-URL:https://devls.magicmillions.com.au
X-WR-CALDESC:Events for Magic Millions
REFRESH-INTERVAL;VALUE=DURATION:PT1H
X-Robots-Tag:noindex
X-PUBLISHED-TTL:PT1H
BEGIN:VTIMEZONE
TZID:Australia/Melbourne
BEGIN:STANDARD
TZOFFSETFROM:+1100
TZOFFSETTO:+1000
TZNAME:AEST
DTSTART:20200404T160000
END:STANDARD
BEGIN:DAYLIGHT
TZOFFSETFROM:+1000
TZOFFSETTO:+1100
TZNAME:AEDT
DTSTART:20201003T160000
END:DAYLIGHT
END:VTIMEZONE
BEGIN:VEVENT
DTSTART;VALUE=DATE:20200730
DTEND;VALUE=DATE:20200801
DTSTAMP:20260421T180637
CREATED:20191001T070111Z
LAST-MODIFIED:20200731T065050Z
UID:32529-1596067200-1596239999@devls.magicmillions.com.au
SUMMARY:2020 National Weanling Sale
DESCRIPTION:Magic Millions is proud to announce the online catalogues for the National Broodmare and National Weanling Sales are now online. \nThe Southern Hemisphere’s number one breeding stock auction will commence on July 27 with Day One of the National Broodmare Sale featuring a mouth watering line up of 147 race fillies and maiden mares. \nDay One highlights include champion sprinting mare Sunlight\, Australian Oaks heroine Unforgotten and Group One star Invincibella. \nThe National Broodmare Sale will present its youngest catalogue ever with over 54 per cent either a maiden mare or at first cover. \nTo view the online catalogue for the 2020 Magic Millions National Broodmare Sale click here. \nThe National Weanling Sale\, comprising 309 lots\, is the premier source of pin-hook success stories and racetrack stars alike. Recent Australian Derby winner Quick Thinker is the latest Group One winner to emerge from the sale. \nSome 19 exciting young stallions will be represented by members of their first crop at the sale which boasts graduates including superstar sires Pierro and Zoustar. \nTo view the online catalogue for the 2020 Magic Millions National Weanling Sale click here. \n“We must thank our vendors for their faith and patience over the last few months\, Magic Millions Managing Director Barry Bowditch said. \n“We have an outstanding line up of stock to offer the market and look forward to hosting you on the Gold Coast for our much anticipated live auction.” \n“Whether it be maiden mares\, mares in foal or weanlings\, this catalogue will provide you with more opportunity and quality than any other\,” Bowditch added. \nSupplementary entries for the National Broodmare and Weanling Sales close at 10am on Monday 6 July. \nThe catalogue for the 2020 National Yearling Sale will be released in coming days. \nREVISED SALE SCHEDULE\nMonday 27 July – 2pm – National Broodmare Sale\nTuesday 28 July – 10am – National Broodmare Sale\nWednesday 29 July – 10am – National Broodmare Sale\nThursday 30 July – 2pm – National Weanling Sale\nFriday 31 July – 10am – National Weanling Sale\nMonday 3 August – 10am – National Yearling Sale\nTuesday 4 August – 10am – National Yearling Sale\nTuesday 4 August – National Racehorse Sale follows yearlings
URL:https://devls.magicmillions.com.au/calendar/2020-gold-coast-national-weanling-sale/
LOCATION:Magic Millions Sales Complex Bundall\, 28 Ascot Court\, Bundall\, Gold Coast\, Queensland\, 4217\, Australia
CATEGORIES:Events,Gold Coast May/June,Sales
END:VEVENT
END:VCALENDAR