BEGIN:VCALENDAR
VERSION:2.0
PRODID:-//Magic Millions - ECPv6.7.1//NONSGML v1.0//EN
CALSCALE:GREGORIAN
METHOD:PUBLISH
X-WR-CALNAME:Magic Millions
X-ORIGINAL-URL:https://devls.magicmillions.com.au
X-WR-CALDESC:Events for Magic Millions
REFRESH-INTERVAL;VALUE=DURATION:PT1H
X-Robots-Tag:noindex
X-PUBLISHED-TTL:PT1H
BEGIN:VTIMEZONE
TZID:Australia/Melbourne
BEGIN:STANDARD
TZOFFSETFROM:+1100
TZOFFSETTO:+1000
TZNAME:AEST
DTSTART:20180331T160000
END:STANDARD
BEGIN:DAYLIGHT
TZOFFSETFROM:+1000
TZOFFSETTO:+1100
TZNAME:AEDT
DTSTART:20181006T160000
END:DAYLIGHT
END:VTIMEZONE
BEGIN:VEVENT
DTSTART;TZID=Australia/Melbourne:20181009T110000
DTEND;TZID=Australia/Melbourne:20181009T170000
DTSTAMP:20260421T201618
CREATED:20180420T005628Z
LAST-MODIFIED:20190719T112552Z
UID:28784-1539082800-1539104400@devls.magicmillions.com.au
SUMMARY:2018 Gold Coast 2YOs In Training Sale
DESCRIPTION:To be held at the Gold Coast Sales Complex on October 9\, the sale features 219 exciting prospects with buyers looking to secure their next stakes winning star. \nAlready some 23 graduates of last year’s catalogue have been winners for their connections headlined by recent Aushorse Golden Horseshoe winner Lim’s Lightning and Australian juvenile stakes winner Krone. \n“This is a two-year-old sale with proven stakes results for buyers\,” Magic Millions Managing Director Barry Bowditch said. “From the last six editions of the sale 46 stakes performers have emerged.” \n“The Gold Coast 2YOs in Training Sale produces more winners and has the best strike rate of the three breeze up style auctions in Australasia. The reason for this is the professionalism of our vendors who are among the most experienced two-year-old sale vendors in the region.” \nIn a boost for buyers 120 lots are BOBS Eligible\, 54 are nominated to the Magic Millions Race Series\, 12 are nominated for the Golden Slipper\, 6 for the Blue Diamond Stakes and 33 lots are QTIS Fully Paid. Some 34 lots are Super VOBIS Nominated while another five are VOBIS Gold Nominated. \nProspective Singapore buyers will be inspecting the 205 lots eligible for bonuses during the Singapore Golden Horseshoe 2YO Series – a great pointer considering the three placegetters from this year’s race were all purchased from last year’s Gold Coast 2YOs in Training Sale. \nYoungsters will breeze at one of four sessions across three states in the lead up to the auction giving prospective buyers a great chance to see each lot gallop on a similar surface. \nAll breeze-up sessions will be streamed live via the Magic Millions website and all completed breeze footage will be online from 20 September. \n 
URL:https://devls.magicmillions.com.au/calendar/2018-gold-coast-2yos-in-training-sale/
LOCATION:Magic Millions Sales Complex Bundall\, 28 Ascot Court\, Bundall\, Gold Coast\, Queensland\, 4217\, Australia
CATEGORIES:Carnivals,Gold Coast,Sales
END:VEVENT
END:VCALENDAR