BEGIN:VCALENDAR
VERSION:2.0
PRODID:-//Magic Millions - ECPv6.7.1//NONSGML v1.0//EN
CALSCALE:GREGORIAN
METHOD:PUBLISH
X-WR-CALNAME:Magic Millions
X-ORIGINAL-URL:https://devls.magicmillions.com.au
X-WR-CALDESC:Events for Magic Millions
REFRESH-INTERVAL;VALUE=DURATION:PT1H
X-Robots-Tag:noindex
X-PUBLISHED-TTL:PT1H
BEGIN:VTIMEZONE
TZID:Australia/Melbourne
BEGIN:STANDARD
TZOFFSETFROM:+1100
TZOFFSETTO:+1000
TZNAME:AEST
DTSTART:20170401T160000
END:STANDARD
BEGIN:DAYLIGHT
TZOFFSETFROM:+1000
TZOFFSETTO:+1100
TZNAME:AEDT
DTSTART:20170930T160000
END:DAYLIGHT
END:VTIMEZONE
BEGIN:VEVENT
DTSTART;TZID=Australia/Melbourne:20170606T100000
DTEND;TZID=Australia/Melbourne:20170608T190000
DTSTAMP:20260421T194121
CREATED:20160711T051801Z
LAST-MODIFIED:20190719T111255Z
UID:21178-1496743200-1496948400@devls.magicmillions.com.au
SUMMARY:2017 Gold Coast National Yearling Sale
DESCRIPTION:With 584 lots\, the auction will boast progeny by a record 130 individual stallions including 20 exciting first season sires. \nThe National Yearling Sale has established itself as one of the best value in the region with graduates having won races including the Golden Slipper\, Victoria Derby\, KrisFlyer International Sprint\, Kelt Capital Stakes\, Oakleigh Plate\, Australian Oaks\, Dubai Golden Shaheen and Rosehill Guineas. \nRace for more with a National Yearling sale purchase with all but six of the catalogued lots eligible to be paid up for the $11m+ Magic Millions Race Series. \nIn a further boost the majority of yearlings catalogued are eligible for rich state based bonus schemes and they include:\n• BOBS Eligible: 426 lots (73% of the catalogue)\n• QTIS 1st Payment: 77 lots\n• QTIS Fully Paid: 4 lots\n• SABOIS Breeder Paid: 1 lot\n• SABOIS Fully Qualified: 2 lots\n• Super VOBIS Nominated: 49 lots\n• Westpeed Breeder Nominated: 4 lots \nOther Sales in National Series: \nWeanlings Broodmares Racehorses
URL:https://devls.magicmillions.com.au/calendar/2017-gold-coast-national-yearling-sale/
LOCATION:Magic Millions Sales Complex Bundall\, 28 Ascot Court\, Bundall\, Gold Coast\, Queensland\, 4217\, Australia
CATEGORIES:Gold Coast,Sales
END:VEVENT
END:VCALENDAR