BEGIN:VCALENDAR
VERSION:2.0
PRODID:-//Magic Millions - ECPv6.7.1//NONSGML v1.0//EN
CALSCALE:GREGORIAN
METHOD:PUBLISH
X-WR-CALNAME:Magic Millions
X-ORIGINAL-URL:https://devls.magicmillions.com.au
X-WR-CALDESC:Events for Magic Millions
REFRESH-INTERVAL;VALUE=DURATION:PT1H
X-Robots-Tag:noindex
X-PUBLISHED-TTL:PT1H
BEGIN:VTIMEZONE
TZID:Australia/Melbourne
BEGIN:STANDARD
TZOFFSETFROM:+1100
TZOFFSETTO:+1000
TZNAME:AEST
DTSTART:20160402T160000
END:STANDARD
BEGIN:DAYLIGHT
TZOFFSETFROM:+1000
TZOFFSETTO:+1100
TZNAME:AEDT
DTSTART:20161001T160000
END:DAYLIGHT
END:VTIMEZONE
BEGIN:VEVENT
DTSTART;TZID=Australia/Melbourne:20160626T110000
DTEND;TZID=Australia/Melbourne:20160626T180000
DTSTAMP:20260422T000614
CREATED:20160401T063448Z
LAST-MODIFIED:20190719T110533Z
UID:20246-1466938800-1466964000@devls.magicmillions.com.au
SUMMARY:2016 Perth Winter Yearling Sale
DESCRIPTION:Perth Winter Thoroughbred Sale \nThe 2016 Magic Millions Perth Winter Yearling Sale has quickly established itself a premier source of quality performers. \nThe past two editions this sale have produced Group Two Western Australian Guineas winner Man Booker ($25\,000 purchase with earnings of $496\,300)\, Crystal Slipper winner and Karrakatta Plate runner-up Spangled Impact ($2\,000 buy with $260\,400 earned already) and quality performers Atacama Sky (Ascot 2YO winner and Perth Stakes runner-up) and Recoiled (won first two starts in Perth at three). \nThis year’s catalogue includes (at least half) relations to stakes performers including Black George\, Oroya Gold\, Prentice\, Rockshaft\, Vitalism and Young Lionel and youngsters from stakes mares Danni’s Crystal\, Only Glory\, Rosey View and Simply Adorable.
URL:https://devls.magicmillions.com.au/calendar/2016-perth-winter-sale-series/
LOCATION:Belmont Park Sales Complex\, Belmont Racecourse\, Lot 1 Goodwood Parade\, Burswood\, Western Australia\, 6100\, Australia
CATEGORIES:Events,Perth,Sales
END:VEVENT
END:VCALENDAR