BEGIN:VCALENDAR
VERSION:2.0
PRODID:-//Magic Millions - ECPv6.7.1//NONSGML v1.0//EN
CALSCALE:GREGORIAN
METHOD:PUBLISH
X-WR-CALNAME:Magic Millions
X-ORIGINAL-URL:https://devls.magicmillions.com.au
X-WR-CALDESC:Events for Magic Millions
REFRESH-INTERVAL;VALUE=DURATION:PT1H
X-Robots-Tag:noindex
X-PUBLISHED-TTL:PT1H
BEGIN:VTIMEZONE
TZID:Australia/Melbourne
BEGIN:STANDARD
TZOFFSETFROM:+1100
TZOFFSETTO:+1000
TZNAME:AEST
DTSTART:20160402T160000
END:STANDARD
BEGIN:DAYLIGHT
TZOFFSETFROM:+1000
TZOFFSETTO:+1100
TZNAME:AEDT
DTSTART:20161001T160000
END:DAYLIGHT
END:VTIMEZONE
BEGIN:VEVENT
DTSTART;TZID=Australia/Melbourne:20160607T100000
DTEND;TZID=Australia/Melbourne:20160608T180000
DTSTAMP:20260421T201612
CREATED:20151130T010657Z
LAST-MODIFIED:20190719T110425Z
UID:18603-1465293600-1465408800@devls.magicmillions.com.au
SUMMARY:2016 Gold Coast National Yearling Sale
DESCRIPTION:Having produced graduates to win races including the Golden Slipper\, Victoria Derby\, Rosehill Guineas\, KrisFlyer International Sprint\, Dubai Golden Shaheen\, New Zealand Oaks\, Oakleigh Plate\, Queensland Oaks and many other features\, the National Yearling Sale has quickly established itself one of the region’s top performing auctions. \nOver 450 yearlings will be catalogued in 2016 and Magic Millions is pleased to announce a select session for the first time. The National Racehorse Sale will be conducted following the yearling sale to bring to a close an action packed two weeks on the Gold Coast. \nOther Sales in National Series: \nWeanlings Broodmares Racehorses
URL:https://devls.magicmillions.com.au/calendar/2016-gold-coast-national-yearling-sale/
LOCATION:Magic Millions Sales Complex Bundall\, 28 Ascot Court\, Bundall\, Gold Coast\, Queensland\, 4217\, Australia
CATEGORIES:Carnivals,Sales
END:VEVENT
END:VCALENDAR