BEGIN:VCALENDAR
VERSION:2.0
PRODID:-//Magic Millions - ECPv6.7.1//NONSGML v1.0//EN
CALSCALE:GREGORIAN
METHOD:PUBLISH
X-WR-CALNAME:Magic Millions
X-ORIGINAL-URL:https://devls.magicmillions.com.au
X-WR-CALDESC:Events for Magic Millions
REFRESH-INTERVAL;VALUE=DURATION:PT1H
X-Robots-Tag:noindex
X-PUBLISHED-TTL:PT1H
BEGIN:VTIMEZONE
TZID:Australia/Melbourne
BEGIN:STANDARD
TZOFFSETFROM:+1100
TZOFFSETTO:+1000
TZNAME:AEST
DTSTART:20160402T160000
END:STANDARD
BEGIN:DAYLIGHT
TZOFFSETFROM:+1000
TZOFFSETTO:+1100
TZNAME:AEDT
DTSTART:20161001T160000
END:DAYLIGHT
END:VTIMEZONE
BEGIN:VEVENT
DTSTART;TZID=Australia/Melbourne:20160529T100000
DTEND;TZID=Australia/Melbourne:20160530T180000
DTSTAMP:20260421T180637
CREATED:20151130T005654Z
LAST-MODIFIED:20190719T110206Z
UID:18599-1464516000-1464631200@devls.magicmillions.com.au
SUMMARY:2016 Gold Coast National Weanling Sale
DESCRIPTION:Over recent seasons the National Weanling Sale has produced many stars – whether in the sale ring at yearling or two-year-old sales or on the track at the elite level. These graduates have included Group One winners  Pierro\, Zoustar\, Driefontein\, Harry’s Son\, Peggy Jean\, Willow Magic and Sacred Star as well as Gregers\, Whispering Brook\, Mahuta\, Alpha Miss\, Eclair Choice and Redzel. \nThe 2016 National Weanling Sale has attracted a catalogue of 400 lots including the Bellview Park Stud Unreserved Dispersal and the Bell River Thoroughbreds Dispersal. The sale features progeny by sires including proven stars Snitzel\, Fastnet Rock\, I Am Invincible\, Sebring\, Written Tycoon and Redoute’s Choice\, exciting young prospects All Too Hard\, Pierro\, Uncle Mo and Your Song and first season sires including Dundeel\, Epaulette\, Eurozone\, Fight Sun\, Shamus Award\, Sizzling\, Spirit of Boom\, The Factor and Unencumbered. \nOther Sales in National Series: \nBroodmares Yearlings Racehorses
URL:https://devls.magicmillions.com.au/calendar/2016-gold-coast-national-weanling-sale/
LOCATION:Magic Millions Sales Complex Bundall\, 28 Ascot Court\, Bundall\, Gold Coast\, Queensland\, 4217\, Australia
CATEGORIES:Carnivals,Sales
END:VEVENT
END:VCALENDAR